BEGIN:VCALENDAR
PRODID:-//Microsoft Corporation//Outlook 14.0 MIMEDIR//EN
VERSION:2.0
METHOD:PUBLISH
BEGIN:VEVENT
UID:488ac00edf18b37769ff67c66df0504cwww.ahacn.org
DTSTAMP:20260423T181313Z
DTSTART:2026-05-25T09:45:0000Z
DTEND:2026-05-25T11:00:0000Z
SUMMARY:Marche à l’extériieur (CNCAR)
LOCATION:
DESCRIPTION:Balade tranquille en groupe dans le quartier ou en nature. Activité intérieure en cas de pluie.
END:VEVENT
END:VCALENDAR