BEGIN:VCALENDAR
PRODID:-//Microsoft Corporation//Outlook 14.0 MIMEDIR//EN
VERSION:2.0
METHOD:PUBLISH
BEGIN:VEVENT
UID:5511d0b85146a63ebb98c199f326afa4www.ahacn.org
DTSTAMP:20260423T182140Z
DTSTART:2026-05-21T09:45:0000Z
DTEND:2026-05-21T11:00:0000Z
SUMMARY:Activité physique (CNCAR)   
LOCATION:Association des handicapés adultes de la Côte-Nord
DESCRIPTION:Séance de mouvements doux pour rester actif et en santé. Accessible à tous.
END:VEVENT
END:VCALENDAR