BEGIN:VCALENDAR
PRODID:-//Microsoft Corporation//Outlook 14.0 MIMEDIR//EN
VERSION:2.0
METHOD:PUBLISH
BEGIN:VEVENT
UID:8f764dc079b0a47384e7afffa193c769www.ahacn.org
DTSTAMP:20260423T181446Z
DTSTART:2026-05-14T09:45:0000Z
DTEND:2026-05-14T11:00:0000Z
SUMMARY:Activité physique (CNCAR)  
LOCATION:Association des handicapés adultes de la Côte-Nord
DESCRIPTION:Séance de mouvements doux pour rester actif et en santé. Accessible à tous.
END:VEVENT
END:VCALENDAR