BEGIN:VCALENDAR
PRODID:-//Microsoft Corporation//Outlook 14.0 MIMEDIR//EN
VERSION:2.0
METHOD:PUBLISH
BEGIN:VEVENT
UID:83ca8b451f37b855b353540068d5e4b9www.ahacn.org
DTSTAMP:20260423T182103Z
DTSTART:2026-05-07T13:00:0000Z
DTEND:2026-05-07T15:00:0000Z
SUMMARY:Activité physique (CNCAR)  
LOCATION:Association des handicapés adultes de la Côte-Nord
DESCRIPTION:Séance de mouvements doux pour rester actif et en santé. Accessible à tous.
END:VEVENT
END:VCALENDAR