BEGIN:VCALENDAR
PRODID:-//Microsoft Corporation//Outlook 14.0 MIMEDIR//EN
VERSION:2.0
METHOD:PUBLISH
BEGIN:VEVENT
UID:22dd9fcd66067ce7c7a38206dc41c882www.ahacn.org
DTSTAMP:20260423T182103Z
DTSTART:2026-05-13T11:00:0000Z
DTEND:2026-05-13T15:00:0000Z
SUMMARY:Dîner cinéma (CNCAR)
LOCATION:
DESCRIPTION:Dîner au restaurant le Super-frite tout en regardant un film choisi en groupe au CINÉ-CENTRE Manicouagan. Les membres doivent réserver le transport adapté pour le Centre Manicouagan, à la porte du cinéma. 
END:VEVENT
END:VCALENDAR