BEGIN:VCALENDAR
PRODID:-//Microsoft Corporation//Outlook 14.0 MIMEDIR//EN
VERSION:2.0
METHOD:PUBLISH
BEGIN:VEVENT
UID:2aa62cd7e6accdf82dd234dc6d041aeawww.ahacn.org
DTSTAMP:20260423T182139Z
DTSTART:2026-05-06T11:00:0000Z
DTEND:2026-05-06T13:00:0000Z
SUMMARY:Grand McDon (CNCAR)
LOCATION:
DESCRIPTION:Sortie au restaurant McDonald’s pour un repas rapide et décontracté en groupe. Vous faites par le même coup une différence dans la vie des gens.
END:VEVENT
END:VCALENDAR