BEGIN:VCALENDAR
PRODID:-//Microsoft Corporation//Outlook 14.0 MIMEDIR//EN
VERSION:2.0
METHOD:PUBLISH
BEGIN:VEVENT
UID:3f9267452ec94f88d50f467837b43b87www.ahacn.org
DTSTAMP:20260423T182139Z
DTSTART:2026-05-12T13:00:0000Z
DTEND:2026-05-12T15:00:0000Z
SUMMARY:Entre-aide (CNCAR) 
LOCATION:
DESCRIPTION:Temps consacré à aider pour les participants. Peut inclure ménage, cuisine collective ou déchiquetage.
END:VEVENT
END:VCALENDAR