BEGIN:VCALENDAR
PRODID:-//Microsoft Corporation//Outlook 14.0 MIMEDIR//EN
VERSION:2.0
METHOD:PUBLISH
BEGIN:VEVENT
UID:b1a860b3e63e5a0cf757ba538afb70d7www.ahacn.org
DTSTAMP:20260423T182103Z
DTSTART:2026-05-05T13:00:0000Z
DTEND:2026-05-05T15:00:0000Z
SUMMARY:Entre-aide (CNCAR)
LOCATION:
DESCRIPTION:Temps consacré à aider pour les participants. Peut inclure ménage, cuisine collective ou déchiquetage.
END:VEVENT
END:VCALENDAR